BEGIN:VCALENDAR
VERSION:2.0
PRODID:-// - ECPv6.15.20//NONSGML v1.0//EN
CALSCALE:GREGORIAN
METHOD:PUBLISH
X-ORIGINAL-URL:https://www.folkstanzwirbel.de
X-WR-CALDESC:Veranstaltungen für 
REFRESH-INTERVAL;VALUE=DURATION:PT1H
X-Robots-Tag:noindex
X-PUBLISHED-TTL:PT1H
BEGIN:VTIMEZONE
TZID:Europe/Berlin
BEGIN:DAYLIGHT
TZOFFSETFROM:+0100
TZOFFSETTO:+0200
TZNAME:CEST
DTSTART:20250330T010000
END:DAYLIGHT
BEGIN:STANDARD
TZOFFSETFROM:+0200
TZOFFSETTO:+0100
TZNAME:CET
DTSTART:20251026T010000
END:STANDARD
BEGIN:DAYLIGHT
TZOFFSETFROM:+0100
TZOFFSETTO:+0200
TZNAME:CEST
DTSTART:20260329T010000
END:DAYLIGHT
BEGIN:STANDARD
TZOFFSETFROM:+0200
TZOFFSETTO:+0100
TZNAME:CET
DTSTART:20261025T010000
END:STANDARD
BEGIN:DAYLIGHT
TZOFFSETFROM:+0100
TZOFFSETTO:+0200
TZNAME:CEST
DTSTART:20270328T010000
END:DAYLIGHT
BEGIN:STANDARD
TZOFFSETFROM:+0200
TZOFFSETTO:+0100
TZNAME:CET
DTSTART:20271031T010000
END:STANDARD
END:VTIMEZONE
BEGIN:VEVENT
DTSTART;TZID=Europe/Berlin:20260413T190000
DTEND;TZID=Europe/Berlin:20260413T220000
DTSTAMP:20260420T104938
CREATED:20260228T100518Z
LAST-MODIFIED:20260228T100732Z
UID:2081-1776106800-1776117600@www.folkstanzwirbel.de
SUMMARY:International
DESCRIPTION:Wir tanzen heute (fast) alle Tänze\, die ihr wollt und mitbringt – z. B. aus dem Balkan\, Frankreich\, Israel\, Amerika oder aus Wilhelmsburg.
URL:https://www.folkstanzwirbel.de/termin/international-7/
LOCATION:Honigfabrik\, Industriestraße 125-131\, Hamburg\, 21107
END:VEVENT
BEGIN:VEVENT
DTSTART;TZID=Europe/Berlin:20260406T190000
DTEND;TZID=Europe/Berlin:20260406T220000
DTSTAMP:20260420T104938
CREATED:20260228T100923Z
LAST-MODIFIED:20260228T100923Z
UID:2085-1775502000-1775512800@www.folkstanzwirbel.de
SUMMARY:Balfolk
DESCRIPTION:Wir Tanzen heute Balfolk.
URL:https://www.folkstanzwirbel.de/termin/balfolk-5/
LOCATION:Honigfabrik\, Industriestraße 125-131\, Hamburg\, 21107
END:VEVENT
BEGIN:VEVENT
DTSTART;TZID=Europe/Berlin:20260323T190000
DTEND;TZID=Europe/Berlin:20260323T220000
DTSTAMP:20260420T104938
CREATED:20260111T135640Z
LAST-MODIFIED:20260418T090319Z
UID:2033-1774292400-1774303200@www.folkstanzwirbel.de
SUMMARY:International
DESCRIPTION:Wir tanzen heute (fast) alle Tänze\, die ihr wollt und mitbringt – z. B. aus dem Balkan\, Frankreich\, Israel\, Amerika oder aus Wilhelmsburg.
URL:https://www.folkstanzwirbel.de/termin/international-6/
LOCATION:Honigfabrik\, Industriestraße 125-131\, Hamburg\, 21107
END:VEVENT
BEGIN:VEVENT
DTSTART;TZID=Europe/Berlin:20260316T190000
DTEND;TZID=Europe/Berlin:20260316T220000
DTSTAMP:20260420T104938
CREATED:20260111T135745Z
LAST-MODIFIED:20260208T155953Z
UID:2035-1773687600-1773698400@www.folkstanzwirbel.de
SUMMARY:Balfolk
DESCRIPTION:Wir Tanzen heute Balfolk.
URL:https://www.folkstanzwirbel.de/termin/balfolk-4/
LOCATION:Honigfabrik\, Industriestraße 125-131\, Hamburg\, 21107
END:VEVENT
BEGIN:VEVENT
DTSTART;TZID=Europe/Berlin:20260309T190000
DTEND;TZID=Europe/Berlin:20260309T220000
DTSTAMP:20260420T104938
CREATED:20260111T135550Z
LAST-MODIFIED:20260208T160437Z
UID:2031-1773082800-1773093600@www.folkstanzwirbel.de
SUMMARY:International
DESCRIPTION:Wir tanzen heute (fast) alle Tänze\, die ihr wollt und mitbringt – z. B. aus dem Balkan\, Frankreich\, Israel\, Amerika oder aus Wilhelmsburg.
URL:https://www.folkstanzwirbel.de/termin/international-5/
LOCATION:Honigfabrik\, Industriestraße 125-131\, Hamburg\, 21107
END:VEVENT
BEGIN:VEVENT
DTSTART;TZID=Europe/Berlin:20260302T190000
DTEND;TZID=Europe/Berlin:20260302T220000
DTSTAMP:20260420T104938
CREATED:20260111T140357Z
LAST-MODIFIED:20260111T140357Z
UID:2042-1772478000-1772488800@www.folkstanzwirbel.de
SUMMARY:Bal Folk mit JB
DESCRIPTION:JB Picoult aus Frankreich ist bei uns zu Gast und spielt wunderschöne und bekannte Melodien auf dem chromatischen Akkordeon\, die uns zum tanzen und träumen bringen! \nEintritt: Hutkasse \nBeginn: 19 Uhr \nWo: Honigfabrik\, Industriestraße 125\, 21107 Hamburg
URL:https://www.folkstanzwirbel.de/termin/bal-folk-mit-jb/
LOCATION:Honigfabrik\, Industriestraße 125-131\, Hamburg\, 21107
END:VEVENT
BEGIN:VEVENT
DTSTART;TZID=Europe/Berlin:20260223T190000
DTEND;TZID=Europe/Berlin:20260223T220000
DTSTAMP:20260420T104938
CREATED:20260111T134349Z
LAST-MODIFIED:20260220T111119Z
UID:2027-1771873200-1771884000@www.folkstanzwirbel.de
SUMMARY:Tanzen fällt aufgrund Saalbelegung aus
DESCRIPTION:Wir tanzen heute leider nicht\, da der Saal anderweitig belegt ist.
URL:https://www.folkstanzwirbel.de/termin/international-4/
LOCATION:Honigfabrik\, Industriestraße 125-131\, Hamburg\, 21107
END:VEVENT
BEGIN:VEVENT
DTSTART;TZID=Europe/Berlin:20260216T190000
DTEND;TZID=Europe/Berlin:20260216T220000
DTSTAMP:20260420T104938
CREATED:20260111T133551Z
LAST-MODIFIED:20260208T151038Z
UID:2019-1771268400-1771279200@www.folkstanzwirbel.de
SUMMARY:Balfolk mit Workshop "ungrade Walzer"
DESCRIPTION:Wir Tanzen heute Balfolk mit kleinen Workshopeinlagen zu ungraden Walzern (5/4\, 8/4\, 11/4)
URL:https://www.folkstanzwirbel.de/termin/balfolk-3/
LOCATION:Honigfabrik\, Industriestraße 125-131\, Hamburg\, 21107
END:VEVENT
BEGIN:VEVENT
DTSTART;TZID=Europe/Berlin:20260209T190000
DTEND;TZID=Europe/Berlin:20260209T220000
DTSTAMP:20260420T104938
CREATED:20260111T134301Z
LAST-MODIFIED:20260111T134301Z
UID:2025-1770663600-1770674400@www.folkstanzwirbel.de
SUMMARY:International
DESCRIPTION:Wir tanzen heute (fast) alle Tänze\, die ihr wollt und mitbringt – z. B. aus dem Balkan\, Frankreich\, Israel\, Amerika oder aus Wilhelmsburg.
URL:https://www.folkstanzwirbel.de/termin/international-3/
LOCATION:Honigfabrik\, Industriestraße 125-131\, Hamburg\, 21107
END:VEVENT
BEGIN:VEVENT
DTSTART;TZID=Europe/Berlin:20260202T190000
DTEND;TZID=Europe/Berlin:20260202T220000
DTSTAMP:20260420T104938
CREATED:20260111T133507Z
LAST-MODIFIED:20260111T133507Z
UID:2017-1770058800-1770069600@www.folkstanzwirbel.de
SUMMARY:Balfolk
DESCRIPTION:Wir Tanzen heute Balfolk.
URL:https://www.folkstanzwirbel.de/termin/balfolk-2/
LOCATION:Honigfabrik\, Industriestraße 125-131\, Hamburg\, 21107
END:VEVENT
BEGIN:VEVENT
DTSTART;TZID=Europe/Berlin:20260126T190000
DTEND;TZID=Europe/Berlin:20260126T220000
DTSTAMP:20260420T104938
CREATED:20260111T134050Z
LAST-MODIFIED:20260111T134050Z
UID:2023-1769454000-1769464800@www.folkstanzwirbel.de
SUMMARY:International
DESCRIPTION:Wir tanzen heute (fast) alle Tänze\, die ihr wollt und mitbringt – z. B. aus dem Balkan\, Frankreich\, Israel\, Amerika oder aus Wilhelmsburg.
URL:https://www.folkstanzwirbel.de/termin/international-2/
LOCATION:Honigfabrik\, Industriestraße 125-131\, Hamburg\, 21107
END:VEVENT
BEGIN:VEVENT
DTSTART;TZID=Europe/Berlin:20260119T190000
DTEND;TZID=Europe/Berlin:20260119T220000
DTSTAMP:20260420T104938
CREATED:20260111T133134Z
LAST-MODIFIED:20260111T133134Z
UID:2014-1768849200-1768860000@www.folkstanzwirbel.de
SUMMARY:Balfolk
DESCRIPTION:Wir Tanzen heute Balfolk.
URL:https://www.folkstanzwirbel.de/termin/balfolk/
LOCATION:Honigfabrik\, Industriestraße 125-131\, Hamburg\, 21107
END:VEVENT
BEGIN:VEVENT
DTSTART;TZID=Europe/Berlin:20260112T190000
DTEND;TZID=Europe/Berlin:20260112T220000
DTSTAMP:20260420T104938
CREATED:20260111T133941Z
LAST-MODIFIED:20260111T133941Z
UID:2021-1768244400-1768255200@www.folkstanzwirbel.de
SUMMARY:International
DESCRIPTION:Wir tanzen heute (fast) alle Tänze\, die ihr wollt und mitbringt – z. B. aus dem Balkan\, Frankreich\, Israel\, Amerika oder aus Wilhelmsburg.
URL:https://www.folkstanzwirbel.de/termin/international/
LOCATION:Honigfabrik\, Industriestraße 125-131\, Hamburg\, 21107
END:VEVENT
END:VCALENDAR